BEGIN:VCALENDAR
VERSION:2.0
PRODID:-//Sherwood Charter School - ECPv6.15.4//NONSGML v1.0//EN
CALSCALE:GREGORIAN
METHOD:PUBLISH
X-WR-CALNAME:Sherwood Charter School
X-ORIGINAL-URL:https://sherwoodcharterschool.org
X-WR-CALDESC:Events for Sherwood Charter School
REFRESH-INTERVAL;VALUE=DURATION:PT1H
X-Robots-Tag:noindex
X-PUBLISHED-TTL:PT1H
BEGIN:VTIMEZONE
TZID:America/Los_Angeles
BEGIN:DAYLIGHT
TZOFFSETFROM:-0800
TZOFFSETTO:-0700
TZNAME:PDT
DTSTART:20220313T100000
END:DAYLIGHT
BEGIN:STANDARD
TZOFFSETFROM:-0700
TZOFFSETTO:-0800
TZNAME:PST
DTSTART:20221106T090000
END:STANDARD
END:VTIMEZONE
BEGIN:VEVENT
DTSTART;TZID=America/Los_Angeles:20220524T183000
DTEND;TZID=America/Los_Angeles:20220524T193000
DTSTAMP:20260422T175151
CREATED:20220504T172317Z
LAST-MODIFIED:20220523T230028Z
UID:9311-1653417000-1653420600@sherwoodcharterschool.org
SUMMARY:Middle School Pops Concert
DESCRIPTION:Join us for our middle school band and choir for their spring Pops Concert! See you there! \n6:30 pm on May 24th\nDoors open at 6:15 pm \nSCS Auditorium \n  \nMasks are recommended but not required for this event
URL:https://sherwoodcharterschool.org/event/middle-school-pops-concert/
CATEGORIES:School Events
END:VEVENT
END:VCALENDAR