BEGIN:VCALENDAR
VERSION:2.0
PRODID:-//Sherwood Charter School - ECPv6.15.4//NONSGML v1.0//EN
CALSCALE:GREGORIAN
METHOD:PUBLISH
X-ORIGINAL-URL:https://sherwoodcharterschool.org
X-WR-CALDESC:Events for Sherwood Charter School
REFRESH-INTERVAL;VALUE=DURATION:PT1H
X-Robots-Tag:noindex
X-PUBLISHED-TTL:PT1H
BEGIN:VTIMEZONE
TZID:America/Los_Angeles
BEGIN:DAYLIGHT
TZOFFSETFROM:-0800
TZOFFSETTO:-0700
TZNAME:PDT
DTSTART:20250309T100000
END:DAYLIGHT
BEGIN:STANDARD
TZOFFSETFROM:-0700
TZOFFSETTO:-0800
TZNAME:PST
DTSTART:20251102T090000
END:STANDARD
END:VTIMEZONE
BEGIN:VEVENT
DTSTART;VALUE=DATE:20250404
DTEND;VALUE=DATE:20250405
DTSTAMP:20260421T022403
CREATED:20250306T215851Z
LAST-MODIFIED:20250306T215851Z
UID:11370-1743724800-1743811199@sherwoodcharterschool.org
SUMMARY:Kindergarten Round Up
DESCRIPTION:More information coming soon!
URL:https://sherwoodcharterschool.org/event/kindergarten-round-up-4/
CATEGORIES:School Events
END:VEVENT
BEGIN:VEVENT
DTSTART;TZID=America/Los_Angeles:20250404T120000
DTEND;TZID=America/Los_Angeles:20250404T120000
DTSTAMP:20260421T022403
CREATED:20241031T202227Z
LAST-MODIFIED:20241031T202227Z
UID:11125-1743768000-1743768000@sherwoodcharterschool.org
SUMMARY:2025-2026 Spring Lottery Pre-Application Deadline by Noon
DESCRIPTION:Pre-Applications for the kindergarten-8th grade Spring Lottery are due by noon on April 4th. See more information on the Enrollment page here.
URL:https://sherwoodcharterschool.org/event/2025-2026-spring-lottery-pre-application-deadline-by-noon/
CATEGORIES:School Events
END:VEVENT
END:VCALENDAR