BEGIN:VCALENDAR
VERSION:2.0
PRODID:-//Sherwood Charter School - ECPv6.15.4//NONSGML v1.0//EN
CALSCALE:GREGORIAN
METHOD:PUBLISH
X-ORIGINAL-URL:https://sherwoodcharterschool.org
X-WR-CALDESC:Events for Sherwood Charter School
REFRESH-INTERVAL;VALUE=DURATION:PT1H
X-Robots-Tag:noindex
X-PUBLISHED-TTL:PT1H
BEGIN:VTIMEZONE
TZID:UTC
BEGIN:STANDARD
TZOFFSETFROM:+0000
TZOFFSETTO:+0000
TZNAME:UTC
DTSTART:20180101T000000
END:STANDARD
END:VTIMEZONE
BEGIN:VEVENT
DTSTART;VALUE=DATE:20180905
DTEND;VALUE=DATE:20180906
DTSTAMP:20260423T154325
CREATED:20180509T051853Z
LAST-MODIFIED:20180509T052733Z
UID:6149-1536105600-1536191999@sherwoodcharterschool.org
SUMMARY:First Day of School
DESCRIPTION:
URL:https://sherwoodcharterschool.org/event/first-day-of-school/
CATEGORIES:Academic Calendar
ORGANIZER;CN="Sherwood Charter School":MAILTO:office@sherwoodcharterschool.org
END:VEVENT
END:VCALENDAR