BEGIN:VCALENDAR
VERSION:2.0
PRODID:-//Sherwood Charter School - ECPv6.15.4//NONSGML v1.0//EN
CALSCALE:GREGORIAN
METHOD:PUBLISH
X-WR-CALNAME:Sherwood Charter School
X-ORIGINAL-URL:https://sherwoodcharterschool.org
X-WR-CALDESC:Events for Sherwood Charter School
REFRESH-INTERVAL;VALUE=DURATION:PT1H
X-Robots-Tag:noindex
X-PUBLISHED-TTL:PT1H
BEGIN:VTIMEZONE
TZID:America/Los_Angeles
BEGIN:DAYLIGHT
TZOFFSETFROM:-0800
TZOFFSETTO:-0700
TZNAME:PDT
DTSTART:20250309T100000
END:DAYLIGHT
BEGIN:STANDARD
TZOFFSETFROM:-0700
TZOFFSETTO:-0800
TZNAME:PST
DTSTART:20251102T090000
END:STANDARD
END:VTIMEZONE
BEGIN:VEVENT
DTSTART;VALUE=DATE:20250206
DTEND;VALUE=DATE:20250214
DTSTAMP:20260421T113353
CREATED:20250123T185317Z
LAST-MODIFIED:20250130T225232Z
UID:11278-1738800000-1739491199@sherwoodcharterschool.org
SUMMARY:HEART Week
DESCRIPTION:At SCS we practice our H.E.A.R.T. skills throughout the entire year and HEART week gives us a chance to really celebrate! HEART week begins on February 6th with each day focusing on a specific H.E.A.R.T. skill: honor\, empathy\, accountability\, respect and teamwork. Teachers coordinate content for their individual classrooms. \nStudents may participate in a Spirit Week beginning February 6th by\ndressing according to the schedule below. \nThurs. February 6th– Disney or Marvel Character Day (no masks/weapons)\nMon. February 10th— Pajama or Sweats\nTues. Feb. 11th—Flannel and Jeans\nWed. Feb. 12th– Hearts and/or Red\, Pink\nThu. Feb. 13th— Sports/Team (hats allowed) \nYou can participate in HEART Week at home too! Try some of these activities: \n\nEat heart shaped food like pizza\, pancakes\, a heart shaped lunch\nLeave a heart shaped love note under your child’s pillow for each of the five days. Thursday’s note is about how they use honor\, Monday’s note is how they show empathy etc.\nWatch a movie as a family and talk about how the H.E.A.R.T. skills were used or not used during the film\nWhen you read to your child at night\, discuss the H.E.A.R.T. skills that the main character used or struggled to use\nPick a picture book each night for each of the H.E.A.R.T. skills\nH.E.A.R.T. Charades\nPlay a family game and focus on one of the heart skills that the family is using such as teamwork\nDo a H.E.A.R.T. skill scavenger hunt around the house\nHave your child send letters to family members about the H.E.A.R.T. skills that they appreciate about that person\nDo a family service project that week to practice empathy\nClean the house using teamwork and playing songs with “heart” in the title. Google songs with heart in the title and you are set!\nEach night at dinner\, ask each other questions about how they used a certain H.E.A.R.T. skill that day. For example\, on Wednesday\, talk about how each family member used respect that day\nHave a H.E.A.R.T. cookie surprise! Bake heart shaped cookies and deliver it to service organizations in Sherwood to thank them for their H.E.A.R.T. skills that make this community special. For example\, deliver cookies to the police department and make a thank you card about how they use honor\, teamwork etc.
URL:https://sherwoodcharterschool.org/event/heart-week-6/
CATEGORIES:School Events
END:VEVENT
END:VCALENDAR