BEGIN:VCALENDAR
VERSION:2.0
PRODID:-//Sherwood Charter School - ECPv6.15.4//NONSGML v1.0//EN
CALSCALE:GREGORIAN
METHOD:PUBLISH
X-ORIGINAL-URL:https://sherwoodcharterschool.org
X-WR-CALDESC:Events for Sherwood Charter School
REFRESH-INTERVAL;VALUE=DURATION:PT1H
X-Robots-Tag:noindex
X-PUBLISHED-TTL:PT1H
BEGIN:VTIMEZONE
TZID:America/Los_Angeles
BEGIN:DAYLIGHT
TZOFFSETFROM:-0800
TZOFFSETTO:-0700
TZNAME:PDT
DTSTART:20260308T100000
END:DAYLIGHT
BEGIN:STANDARD
TZOFFSETFROM:-0700
TZOFFSETTO:-0800
TZNAME:PST
DTSTART:20261101T090000
END:STANDARD
END:VTIMEZONE
BEGIN:VEVENT
DTSTART;VALUE=DATE:20260504
DTEND;VALUE=DATE:20260508
DTSTAMP:20260420T054634
CREATED:20260414T173258Z
LAST-MODIFIED:20260414T173258Z
UID:12150-1777852800-1778198399@sherwoodcharterschool.org
SUMMARY:Oregon Statewide Assessment - 3rd-5th Grade ELA and Math
DESCRIPTION:State testing for 3rd-5th Grade English Language Arts and Math will take place May 4th-14th.
URL:https://sherwoodcharterschool.org/event/oregon-statewide-assessment-3rd-5th-grade-ela-and-math/
CATEGORIES:School Events
END:VEVENT
END:VCALENDAR