BEGIN:VCALENDAR
VERSION:2.0
PRODID:-//Sherwood Charter School - ECPv6.15.4//NONSGML v1.0//EN
CALSCALE:GREGORIAN
METHOD:PUBLISH
X-WR-CALNAME:Sherwood Charter School
X-ORIGINAL-URL:https://sherwoodcharterschool.org
X-WR-CALDESC:Events for Sherwood Charter School
REFRESH-INTERVAL;VALUE=DURATION:PT1H
X-Robots-Tag:noindex
X-PUBLISHED-TTL:PT1H
BEGIN:VTIMEZONE
TZID:America/Los_Angeles
BEGIN:DAYLIGHT
TZOFFSETFROM:-0800
TZOFFSETTO:-0700
TZNAME:PDT
DTSTART:20250309T100000
END:DAYLIGHT
BEGIN:STANDARD
TZOFFSETFROM:-0700
TZOFFSETTO:-0800
TZNAME:PST
DTSTART:20251102T090000
END:STANDARD
BEGIN:DAYLIGHT
TZOFFSETFROM:-0800
TZOFFSETTO:-0700
TZNAME:PDT
DTSTART:20260308T100000
END:DAYLIGHT
BEGIN:STANDARD
TZOFFSETFROM:-0700
TZOFFSETTO:-0800
TZNAME:PST
DTSTART:20261101T090000
END:STANDARD
END:VTIMEZONE
BEGIN:VEVENT
DTSTART;VALUE=DATE:20260416
DTEND;VALUE=DATE:20260417
DTSTAMP:20260421T132941
CREATED:20260302T165248Z
LAST-MODIFIED:20260302T165248Z
UID:12057-1776297600-1776383999@sherwoodcharterschool.org
SUMMARY:Field Trip - 8th Grade
DESCRIPTION:
URL:https://sherwoodcharterschool.org/event/field-trip-8th-grade-3/
CATEGORIES:Field Trip
END:VEVENT
BEGIN:VEVENT
DTSTART;VALUE=DATE:20260416
DTEND;VALUE=DATE:20260417
DTSTAMP:20260421T132941
CREATED:20260226T211434Z
LAST-MODIFIED:20260226T211434Z
UID:12052-1776297600-1776383999@sherwoodcharterschool.org
SUMMARY:Field Trip - 4th Grade
DESCRIPTION:
URL:https://sherwoodcharterschool.org/event/field-trip-4th-grade-9/
CATEGORIES:Field Trip
END:VEVENT
BEGIN:VEVENT
DTSTART;VALUE=DATE:20260407
DTEND;VALUE=DATE:20260408
DTSTAMP:20260421T132941
CREATED:20260331T190439Z
LAST-MODIFIED:20260331T190439Z
UID:12114-1775520000-1775606399@sherwoodcharterschool.org
SUMMARY:Field Trip - Kindergarten
DESCRIPTION:
URL:https://sherwoodcharterschool.org/event/field-trip-kindergarten-13/
CATEGORIES:Field Trip
END:VEVENT
BEGIN:VEVENT
DTSTART;VALUE=DATE:20260406
DTEND;VALUE=DATE:20260407
DTSTAMP:20260421T132941
CREATED:20260331T190258Z
LAST-MODIFIED:20260331T190258Z
UID:12113-1775433600-1775519999@sherwoodcharterschool.org
SUMMARY:Field Trip - 5th Grade
DESCRIPTION:
URL:https://sherwoodcharterschool.org/event/field-trip-5th-grade-10/
CATEGORIES:Field Trip
END:VEVENT
BEGIN:VEVENT
DTSTART;VALUE=DATE:20260402
DTEND;VALUE=DATE:20260403
DTSTAMP:20260421T132941
CREATED:20260331T185829Z
LAST-MODIFIED:20260331T185829Z
UID:12111-1775088000-1775174399@sherwoodcharterschool.org
SUMMARY:Field Trip - 2nd Grade
DESCRIPTION:
URL:https://sherwoodcharterschool.org/event/field-trip-2nd-grade-10/
CATEGORIES:Field Trip
END:VEVENT
BEGIN:VEVENT
DTSTART;VALUE=DATE:20260402
DTEND;VALUE=DATE:20260403
DTSTAMP:20260421T132941
CREATED:20260302T164717Z
LAST-MODIFIED:20260302T164717Z
UID:12056-1775088000-1775174399@sherwoodcharterschool.org
SUMMARY:Field Trip - 6th Grade
DESCRIPTION:
URL:https://sherwoodcharterschool.org/event/field-trip-6th-grade-3/
CATEGORIES:Field Trip
END:VEVENT
BEGIN:VEVENT
DTSTART;VALUE=DATE:20260312
DTEND;VALUE=DATE:20260313
DTSTAMP:20260421T132941
CREATED:20260105T214539Z
LAST-MODIFIED:20260212T201550Z
UID:11987-1773273600-1773359999@sherwoodcharterschool.org
SUMMARY:Field Trip - 5th Grade
DESCRIPTION:
URL:https://sherwoodcharterschool.org/event/field-trip-5th-grade-9/
CATEGORIES:Field Trip
END:VEVENT
BEGIN:VEVENT
DTSTART;VALUE=DATE:20260311
DTEND;VALUE=DATE:20260312
DTSTAMP:20260421T132941
CREATED:20260105T214510Z
LAST-MODIFIED:20260105T214510Z
UID:11986-1773187200-1773273599@sherwoodcharterschool.org
SUMMARY:Field Trip - 2nd Grade
DESCRIPTION:
URL:https://sherwoodcharterschool.org/event/field-trip-2nd-grade-9/
CATEGORIES:Field Trip
END:VEVENT
BEGIN:VEVENT
DTSTART;VALUE=DATE:20260310
DTEND;VALUE=DATE:20260311
DTSTAMP:20260421T132941
CREATED:20260302T164511Z
LAST-MODIFIED:20260302T164511Z
UID:12055-1773100800-1773187199@sherwoodcharterschool.org
SUMMARY:Field Trip - 1st Grade
DESCRIPTION:
URL:https://sherwoodcharterschool.org/event/field-trip-1st-grade-11/
CATEGORIES:Field Trip
END:VEVENT
BEGIN:VEVENT
DTSTART;VALUE=DATE:20260310
DTEND;VALUE=DATE:20260311
DTSTAMP:20260421T132941
CREATED:20260226T211212Z
LAST-MODIFIED:20260226T211212Z
UID:12051-1773100800-1773187199@sherwoodcharterschool.org
SUMMARY:Field Trip - Kindergarten
DESCRIPTION:
URL:https://sherwoodcharterschool.org/event/field-trip-kindergarten-12/
CATEGORIES:Field Trip
END:VEVENT
BEGIN:VEVENT
DTSTART;VALUE=DATE:20260305
DTEND;VALUE=DATE:20260306
DTSTAMP:20260421T132941
CREATED:20260212T201438Z
LAST-MODIFIED:20260212T201438Z
UID:12032-1772668800-1772755199@sherwoodcharterschool.org
SUMMARY:Field Trip - 4th Grade
DESCRIPTION:
URL:https://sherwoodcharterschool.org/event/field-trip-4th-grade-7/
CATEGORIES:Field Trip
END:VEVENT
BEGIN:VEVENT
DTSTART;VALUE=DATE:20260225
DTEND;VALUE=DATE:20260226
DTSTAMP:20260421T132941
CREATED:20260212T201312Z
LAST-MODIFIED:20260212T201312Z
UID:12031-1771977600-1772063999@sherwoodcharterschool.org
SUMMARY:Field Trip - MS Choir
DESCRIPTION:
URL:https://sherwoodcharterschool.org/event/field-trip-ms-choir-2/
CATEGORIES:Field Trip
END:VEVENT
BEGIN:VEVENT
DTSTART;VALUE=DATE:20260224
DTEND;VALUE=DATE:20260225
DTSTAMP:20260421T132941
CREATED:20260212T201103Z
LAST-MODIFIED:20260212T201103Z
UID:12030-1771891200-1771977599@sherwoodcharterschool.org
SUMMARY:Field Trip - 3rd Grade
DESCRIPTION:
URL:https://sherwoodcharterschool.org/event/field-trip-3rd-grade-10/
CATEGORIES:Field Trip
END:VEVENT
BEGIN:VEVENT
DTSTART;VALUE=DATE:20260207
DTEND;VALUE=DATE:20260208
DTSTAMP:20260421T132941
CREATED:20260105T214349Z
LAST-MODIFIED:20260105T214349Z
UID:11985-1770422400-1770508799@sherwoodcharterschool.org
SUMMARY:Field Trip - MS Robotics
DESCRIPTION:Please email Mrs. Barchers for information about this event.
URL:https://sherwoodcharterschool.org/event/field-trip-ms-robotics-5/
CATEGORIES:Field Trip
END:VEVENT
BEGIN:VEVENT
DTSTART;VALUE=DATE:20260110
DTEND;VALUE=DATE:20260111
DTSTAMP:20260421T132941
CREATED:20260105T214157Z
LAST-MODIFIED:20260105T214157Z
UID:11984-1768003200-1768089599@sherwoodcharterschool.org
SUMMARY:Field Trip - MS Robotics
DESCRIPTION:Please email Mrs. Barchers for information about this event.
URL:https://sherwoodcharterschool.org/event/field-trip-ms-robotics-4/
CATEGORIES:Field Trip
END:VEVENT
BEGIN:VEVENT
DTSTART;VALUE=DATE:20251216
DTEND;VALUE=DATE:20251217
DTSTAMP:20260421T132941
CREATED:20251117T185220Z
LAST-MODIFIED:20251117T185220Z
UID:11948-1765843200-1765929599@sherwoodcharterschool.org
SUMMARY:Field Trip - Kindergarten
DESCRIPTION:
URL:https://sherwoodcharterschool.org/event/field-trip-kindergarten-11/
CATEGORIES:Field Trip
END:VEVENT
BEGIN:VEVENT
DTSTART;VALUE=DATE:20251210
DTEND;VALUE=DATE:20251211
DTSTAMP:20260421T132941
CREATED:20251117T185151Z
LAST-MODIFIED:20251117T185151Z
UID:11947-1765324800-1765411199@sherwoodcharterschool.org
SUMMARY:Field Trip - 1st Grade
DESCRIPTION:
URL:https://sherwoodcharterschool.org/event/field-trip-1st-grade-10/
CATEGORIES:Field Trip
END:VEVENT
BEGIN:VEVENT
DTSTART;VALUE=DATE:20251206
DTEND;VALUE=DATE:20251207
DTSTAMP:20260421T132941
CREATED:20251117T185941Z
LAST-MODIFIED:20251117T185941Z
UID:11949-1764979200-1765065599@sherwoodcharterschool.org
SUMMARY:Field Trip - MS Robotics
DESCRIPTION:Please email Mrs. Barchers for information about this event.
URL:https://sherwoodcharterschool.org/event/field-trip-ms-robotics/
CATEGORIES:Field Trip
END:VEVENT
BEGIN:VEVENT
DTSTART;VALUE=DATE:20251202
DTEND;VALUE=DATE:20251203
DTSTAMP:20260421T132941
CREATED:20251117T185105Z
LAST-MODIFIED:20251117T185105Z
UID:11946-1764633600-1764719999@sherwoodcharterschool.org
SUMMARY:Field Trip - 2nd Grade
DESCRIPTION:
URL:https://sherwoodcharterschool.org/event/field-trip-2nd-grade-8/
CATEGORIES:Field Trip
END:VEVENT
BEGIN:VEVENT
DTSTART;VALUE=DATE:20251120
DTEND;VALUE=DATE:20251121
DTSTAMP:20260421T132941
CREATED:20251117T185020Z
LAST-MODIFIED:20251117T185020Z
UID:11945-1763596800-1763683199@sherwoodcharterschool.org
SUMMARY:Field Trip - 4th and 5th Grade
DESCRIPTION:
URL:https://sherwoodcharterschool.org/event/field-trip-4th-and-5th-grade/
CATEGORIES:Field Trip
END:VEVENT
BEGIN:VEVENT
DTSTART;VALUE=DATE:20251119
DTEND;VALUE=DATE:20251120
DTSTAMP:20260421T132941
CREATED:20251117T184744Z
LAST-MODIFIED:20251117T184744Z
UID:11942-1763510400-1763596799@sherwoodcharterschool.org
SUMMARY:Field Trip - 3rd Grade
DESCRIPTION:
URL:https://sherwoodcharterschool.org/event/field-trip-3rd-grade-8/
CATEGORIES:Field Trip
END:VEVENT
BEGIN:VEVENT
DTSTART;VALUE=DATE:20251115
DTEND;VALUE=DATE:20251116
DTSTAMP:20260421T132941
CREATED:20251117T190011Z
LAST-MODIFIED:20251117T190011Z
UID:11951-1763164800-1763251199@sherwoodcharterschool.org
SUMMARY:Field Trip - MS Robotics
DESCRIPTION:
URL:https://sherwoodcharterschool.org/event/field-trip-ms-robotics-2/
CATEGORIES:Field Trip
END:VEVENT
BEGIN:VEVENT
DTSTART;VALUE=DATE:20251112
DTEND;VALUE=DATE:20251113
DTSTAMP:20260421T132941
CREATED:20251117T184944Z
LAST-MODIFIED:20251117T184944Z
UID:11944-1762905600-1762991999@sherwoodcharterschool.org
SUMMARY:Field Trip - 3rd Grade
DESCRIPTION:
URL:https://sherwoodcharterschool.org/event/field-trip-3rd-grade-9/
CATEGORIES:Field Trip
END:VEVENT
BEGIN:VEVENT
DTSTART;VALUE=DATE:20251025
DTEND;VALUE=DATE:20251026
DTSTAMP:20260421T132941
CREATED:20251117T190102Z
LAST-MODIFIED:20251117T190102Z
UID:11952-1761350400-1761436799@sherwoodcharterschool.org
SUMMARY:Field Trip - MS Robotics
DESCRIPTION:
URL:https://sherwoodcharterschool.org/event/field-trip-ms-robotics-3/
CATEGORIES:Field Trip
END:VEVENT
BEGIN:VEVENT
DTSTART;VALUE=DATE:20251021
DTEND;VALUE=DATE:20251022
DTSTAMP:20260421T132941
CREATED:20251016T184724Z
LAST-MODIFIED:20251016T191725Z
UID:11894-1761004800-1761091199@sherwoodcharterschool.org
SUMMARY:Field Trip - 1st Grade
DESCRIPTION:
URL:https://sherwoodcharterschool.org/event/field-trip-1st-grade-9/
CATEGORIES:Field Trip
END:VEVENT
BEGIN:VEVENT
DTSTART;VALUE=DATE:20251016
DTEND;VALUE=DATE:20251017
DTSTAMP:20260421T132941
CREATED:20251016T184653Z
LAST-MODIFIED:20251016T184653Z
UID:11893-1760572800-1760659199@sherwoodcharterschool.org
SUMMARY:Field Trip - Middle School
DESCRIPTION:
URL:https://sherwoodcharterschool.org/event/field-trip-middle-school-6/
CATEGORIES:Field Trip
END:VEVENT
BEGIN:VEVENT
DTSTART;VALUE=DATE:20251009
DTEND;VALUE=DATE:20251010
DTSTAMP:20260421T132941
CREATED:20251016T184441Z
LAST-MODIFIED:20251016T184441Z
UID:11892-1759968000-1760054399@sherwoodcharterschool.org
SUMMARY:Field Trip - Kindergarten
DESCRIPTION:
URL:https://sherwoodcharterschool.org/event/field-trip-kindergarten-10/
CATEGORIES:Field Trip
END:VEVENT
BEGIN:VEVENT
DTSTART;VALUE=DATE:20251006
DTEND;VALUE=DATE:20251010
DTSTAMP:20260421T132941
CREATED:20250812T172220Z
LAST-MODIFIED:20250812T172220Z
UID:11613-1759708800-1760054399@sherwoodcharterschool.org
SUMMARY:Field Trip - 5th Grade
DESCRIPTION:
URL:https://sherwoodcharterschool.org/event/field-trip-5th-grade-8/
CATEGORIES:Field Trip
END:VEVENT
BEGIN:VEVENT
DTSTART;VALUE=DATE:20250602
DTEND;VALUE=DATE:20250603
DTSTAMP:20260421T132941
CREATED:20250514T210320Z
LAST-MODIFIED:20250514T210320Z
UID:11482-1748822400-1748908799@sherwoodcharterschool.org
SUMMARY:Field Trip - Middle School
DESCRIPTION:
URL:https://sherwoodcharterschool.org/event/field-trip-middle-school-4/
CATEGORIES:Field Trip
END:VEVENT
BEGIN:VEVENT
DTSTART;VALUE=DATE:20250529
DTEND;VALUE=DATE:20250530
DTSTAMP:20260421T132941
CREATED:20250515T213201Z
LAST-MODIFIED:20250515T213201Z
UID:11500-1748476800-1748563199@sherwoodcharterschool.org
SUMMARY:Field Trip – Middle School
DESCRIPTION:
URL:https://sherwoodcharterschool.org/event/field-trip-middle-school-5/
CATEGORIES:Field Trip
END:VEVENT
END:VCALENDAR