BEGIN:VCALENDAR
VERSION:2.0
PRODID:-//Sherwood Charter School - ECPv6.15.4//NONSGML v1.0//EN
CALSCALE:GREGORIAN
METHOD:PUBLISH
X-WR-CALNAME:Sherwood Charter School
X-ORIGINAL-URL:https://sherwoodcharterschool.org
X-WR-CALDESC:Events for Sherwood Charter School
REFRESH-INTERVAL;VALUE=DURATION:PT1H
X-Robots-Tag:noindex
X-PUBLISHED-TTL:PT1H
BEGIN:VTIMEZONE
TZID:America/Los_Angeles
BEGIN:DAYLIGHT
TZOFFSETFROM:-0800
TZOFFSETTO:-0700
TZNAME:PDT
DTSTART:20260308T100000
END:DAYLIGHT
BEGIN:STANDARD
TZOFFSETFROM:-0700
TZOFFSETTO:-0800
TZNAME:PST
DTSTART:20261101T090000
END:STANDARD
END:VTIMEZONE
BEGIN:VEVENT
DTSTART;VALUE=DATE:20260422
DTEND;VALUE=DATE:20260423
DTSTAMP:20260421T110149
CREATED:20260302T165342Z
LAST-MODIFIED:20260302T165342Z
UID:12058-1776816000-1776902399@sherwoodcharterschool.org
SUMMARY:Field Trip - 7th Grade
DESCRIPTION:
URL:https://sherwoodcharterschool.org/event/field-trip-7th-grade-2/
CATEGORIES:Field Trip
END:VEVENT
BEGIN:VEVENT
DTSTART;VALUE=DATE:20260428
DTEND;VALUE=DATE:20260429
DTSTAMP:20260421T110149
CREATED:20260302T165438Z
LAST-MODIFIED:20260302T165438Z
UID:12059-1777334400-1777420799@sherwoodcharterschool.org
SUMMARY:Field Trip - 1st Grade
DESCRIPTION:
URL:https://sherwoodcharterschool.org/event/field-trip-1st-grade-12/
CATEGORIES:Field Trip
END:VEVENT
BEGIN:VEVENT
DTSTART;VALUE=DATE:20260429
DTEND;VALUE=DATE:20260430
DTSTAMP:20260421T110149
CREATED:20260414T154754Z
LAST-MODIFIED:20260414T154754Z
UID:12143-1777420800-1777507199@sherwoodcharterschool.org
SUMMARY:Field Trip - 4th Grade
DESCRIPTION:
URL:https://sherwoodcharterschool.org/event/field-trip-4th-grade-8/
CATEGORIES:Field Trip
END:VEVENT
BEGIN:VEVENT
DTSTART;VALUE=DATE:20260430
DTEND;VALUE=DATE:20260501
DTSTAMP:20260421T110149
CREATED:20260331T191010Z
LAST-MODIFIED:20260331T191010Z
UID:12115-1777507200-1777593599@sherwoodcharterschool.org
SUMMARY:Field Trip - Middle School
DESCRIPTION:
URL:https://sherwoodcharterschool.org/event/field-trip-middle-school-7/
CATEGORIES:Field Trip
END:VEVENT
BEGIN:VEVENT
DTSTART;VALUE=DATE:20260507
DTEND;VALUE=DATE:20260508
DTSTAMP:20260421T110149
CREATED:20260331T191132Z
LAST-MODIFIED:20260331T201036Z
UID:12116-1778112000-1778198399@sherwoodcharterschool.org
SUMMARY:Field Trip - Middle School
DESCRIPTION:
URL:https://sherwoodcharterschool.org/event/field-trip-middle-school-8/
CATEGORIES:Field Trip
END:VEVENT
END:VCALENDAR