BEGIN:VCALENDAR
VERSION:2.0
PRODID:-//Sherwood Charter School - ECPv6.15.4//NONSGML v1.0//EN
CALSCALE:GREGORIAN
METHOD:PUBLISH
X-WR-CALNAME:Sherwood Charter School
X-ORIGINAL-URL:https://sherwoodcharterschool.org
X-WR-CALDESC:Events for Sherwood Charter School
REFRESH-INTERVAL;VALUE=DURATION:PT1H
X-Robots-Tag:noindex
X-PUBLISHED-TTL:PT1H
BEGIN:VTIMEZONE
TZID:America/Los_Angeles
BEGIN:DAYLIGHT
TZOFFSETFROM:-0800
TZOFFSETTO:-0700
TZNAME:PDT
DTSTART:20210314T100000
END:DAYLIGHT
BEGIN:STANDARD
TZOFFSETFROM:-0700
TZOFFSETTO:-0800
TZNAME:PST
DTSTART:20211107T090000
END:STANDARD
END:VTIMEZONE
BEGIN:VEVENT
DTSTART;TZID=America/Los_Angeles:20211110T173000
DTEND;TZID=America/Los_Angeles:20211110T183000
DTSTAMP:20260425T044229
CREATED:20211105T175501Z
LAST-MODIFIED:20211105T175604Z
UID:9076-1636565400-1636569000@sherwoodcharterschool.org
SUMMARY:Finance Committee Meeting
DESCRIPTION:See more information on the Board of Director’s page.
URL:https://sherwoodcharterschool.org/event/finance-committee-meeting-5/
LOCATION:Virtual
CATEGORIES:Board of Directors
END:VEVENT
BEGIN:VEVENT
DTSTART;TZID=America/Los_Angeles:20211108T173000
DTEND;TZID=America/Los_Angeles:20211108T183000
DTSTAMP:20260425T044229
CREATED:20211105T175413Z
LAST-MODIFIED:20211105T175413Z
UID:9074-1636392600-1636396200@sherwoodcharterschool.org
SUMMARY:Special Session of the Board
DESCRIPTION:See more information on the Board of Director’s page.
URL:https://sherwoodcharterschool.org/event/special-session-of-the-board-3/
LOCATION:Virtual
CATEGORIES:Board of Directors
END:VEVENT
BEGIN:VEVENT
DTSTART;VALUE=DATE:20211108
DTEND;VALUE=DATE:20211109
DTSTAMP:20260425T044229
CREATED:20210809T200106Z
LAST-MODIFIED:20220124T185527Z
UID:8867-1636329600-1636415999@sherwoodcharterschool.org
SUMMARY:Picture Retake Day
DESCRIPTION:Retake day is Monday\, November 8th. If we did not see you on picture day or you would like a new image\, do not miss out on ordering pictures for your student. If you previously ordered a picture package and will be participating in the retakes\, please send your package with your student to be returned to the photographer. \nStudents getting their picture taken may wear uniform or nicer on retake day. \n  \nPicture ordering information: \nYou have the ability to order pictures online by visiting dorianstudio.com. Your online order can be placed before and up to four (4) days after picture day. If you have questions about ordering pictures\, please contact Dorian Studios at support@dorianstudio.com or call (800) 826-3535.
URL:https://sherwoodcharterschool.org/event/picture-retake-day/
CATEGORIES:School Events
END:VEVENT
BEGIN:VEVENT
DTSTART;VALUE=DATE:20211028
DTEND;VALUE=DATE:20211029
DTSTAMP:20260425T044229
CREATED:20210930T203206Z
LAST-MODIFIED:20211020T215128Z
UID:8987-1635379200-1635465599@sherwoodcharterschool.org
SUMMARY:Free Dress Day
DESCRIPTION:The last Thursday of every month is a free dress day. Common-sense guidelines apply\, such as no torn-out jeans\, no shirts with alcohol or inappropriate graphic or logos\, etc. Prohibited articles of clothing include but are not limited to: \n\nPajamas (except on “Pajama Day”)\nTrench coats\nTank tops and spaghetti or thin strap tops\nBare midriff\, or see-through clothing\n\nForm-fitting pants cannot be worn alone and must follow uniform guidelines as described in section 2(c)(xi) of the uniform policy at all times. \nIf in doubt as to whether an item is appropriate\, send back-up clothing in the event your child is asked to change. \n  \nHalloween Costumes at School: \nStudents may choose to wear regular uniform school clothes\, free dress\, fall colors or simple Halloween costumes on Thursday\, October 28th. \nIn addition to individual classroom guidelines\, please follow the guidelines  below to minimize disruption and maximize the fun: \n\nTeachers/Staff cannot be responsible for putting on\, taking off\, or managing costumes. One suggestion is to have your child wear part of their costume to school. Phone calls home for forgotten costume items will not be allowed.\nCostumes should be appropriate for all regular school activities like quiet work times\, recess\, and P.E. Please be aware of the activities your child will be doing\, and know that their costume may come back soiled/damaged. Tennis shoes are required for P.E. Consider sending your student with back up clothing in the event their costume fails.\nMinimal make-up is allowed\, but students are not to bring any makeup items to school for application. No full face makeup or colored hair spray\, as it will often come off on clothing\, costumes\, school supplies\, food\, and school furniture. If the makeup is creating a problem\, your child may be asked to wash it off.\nCostumes should not include accessories such as guns\, knives\, swords\, pitchforks or any other items that make them scary\, gory\, or violent. No costume masks (other than required face masks). Please pay careful attention to the appropriateness of the costume for the school environment.\n\nThe guidelines mentioned above may seem overly restrictive\, but they are designed to protect the safety of your children\nwhile assuring the opportunity for fun in the school setting. We want the children to have a great time AND have a productive day at school. Thanks so much for your assistance! \nIf you have any questions about classroom events\, please contact your students’ teacher.
URL:https://sherwoodcharterschool.org/event/free-dress-day-16/
CATEGORIES:School Events
END:VEVENT
BEGIN:VEVENT
DTSTART;VALUE=DATE:20211021
DTEND;VALUE=DATE:20211022
DTSTAMP:20260425T044229
CREATED:20210930T202512Z
LAST-MODIFIED:20210930T202512Z
UID:9002-1634774400-1634860799@sherwoodcharterschool.org
SUMMARY:Great Oregon ShakeOut
DESCRIPTION:In partnership with the Great Oregon ShakeOut\, we will hold our first earthquake drill on October 21st. See the Great Oregon ShakeOut website for more details.
URL:https://sherwoodcharterschool.org/event/great-oregon-shakeout-2/
END:VEVENT
BEGIN:VEVENT
DTSTART;TZID=America/Los_Angeles:20211020T183000
DTEND;TZID=America/Los_Angeles:20211020T200000
DTSTAMP:20260425T044229
CREATED:20210621T171256Z
LAST-MODIFIED:20210621T171256Z
UID:8785-1634754600-1634760000@sherwoodcharterschool.org
SUMMARY:Board of Director's Meeting
DESCRIPTION:See more information on the Board of Director’s page.
URL:https://sherwoodcharterschool.org/event/board-of-directors-meeting-29/
CATEGORIES:Board of Directors
END:VEVENT
BEGIN:VEVENT
DTSTART;TZID=America/Los_Angeles:20211015T090000
DTEND;TZID=America/Los_Angeles:20211015T150000
DTSTAMP:20260425T044229
CREATED:20210930T204049Z
LAST-MODIFIED:20210930T204049Z
UID:9009-1634288400-1634310000@sherwoodcharterschool.org
SUMMARY:Middle School Fall Conferences
DESCRIPTION:Please contact your student’s middle school teacher to schedule your conference.
URL:https://sherwoodcharterschool.org/event/middle-school-fall-conferences-3/
CATEGORIES:School Events
END:VEVENT
BEGIN:VEVENT
DTSTART;VALUE=DATE:20211010
DTEND;VALUE=DATE:20211024
DTSTAMP:20260425T044229
CREATED:20210930T203338Z
LAST-MODIFIED:20210930T203338Z
UID:9006-1633824000-1635033599@sherwoodcharterschool.org
SUMMARY:Fall Online Book Fair
DESCRIPTION:
URL:https://sherwoodcharterschool.org/event/fall-online-book-fair/
CATEGORIES:PAC
ORGANIZER;CN="SCS PAC":MAILTO:sherwoodcharterpac@gmail.com
END:VEVENT
BEGIN:VEVENT
DTSTART;VALUE=DATE:20210930
DTEND;VALUE=DATE:20211001
DTSTAMP:20260425T044229
CREATED:20210920T172510Z
LAST-MODIFIED:20210920T172510Z
UID:8984-1632960000-1633046399@sherwoodcharterschool.org
SUMMARY:Free Dress Day
DESCRIPTION:The last Thursday of every month is a free dress day. Common-sense guidelines apply\, such as no torn-out jeans\, no shirts with alcohol or inappropriate graphic or logos\, etc. Prohibited articles of clothing include but are not limited to: \n\nPajamas (except on “Pajama Day”)\nTrench coats\nTank tops and spaghetti or thin strap tops\nBare midriff\, or see-through clothing\n\nForm-fitting pants cannot be worn alone and must follow uniform guidelines as described in section 2(c)(xi) of the uniform policy at all times. \nIf in doubt as to whether an item is appropriate\, send back-up clothing in the event your child is asked to change.
URL:https://sherwoodcharterschool.org/event/free-dress-day-14/
CATEGORIES:School Events
END:VEVENT
BEGIN:VEVENT
DTSTART;TZID=America/Los_Angeles:20210929T080000
DTEND;TZID=America/Los_Angeles:20210929T160000
DTSTAMP:20260425T044229
CREATED:20210928T182616Z
LAST-MODIFIED:20210928T183142Z
UID:8997-1632902400-1632931200@sherwoodcharterschool.org
SUMMARY:Uniform Closet and Lost and Found Available
DESCRIPTION:The uniform closet and lost and found will be available in the lower parking lot from 8:00-4:00 on Wednesday\, September 29th. Masks are required while on campus and please practice social distancing.
URL:https://sherwoodcharterschool.org/event/uniform-closet-and-lost-and-found-available/
LOCATION:Sherwood Charter School\, 23264 SW Main St.\, Sherwood\, OR\, 97140\, United States
END:VEVENT
BEGIN:VEVENT
DTSTART;VALUE=DATE:20210927
DTEND;VALUE=DATE:20210928
DTSTAMP:20260425T044229
CREATED:20210621T173301Z
LAST-MODIFIED:20210916T192845Z
UID:8815-1632700800-1632787199@sherwoodcharterschool.org
SUMMARY:Picture Day
DESCRIPTION:Picture day is on Monday\, September 27th! You can place pre-orders for picture packages online\, click here. Please note that online order receipts should be printed and included in the order envelope\, which should be turned in to your student’s teacher on or before picture day. Order forms went home at the Meet and Greet event\, if you need an extra check in with the office.\n \nFor picture day\, students must wear uniform or nicer attire – please no jeans. All students will get their picture taken as part of their school record\, even if you chose not to order any photos.\n\nFor more information about picture day\, see the Dorian flyer here.
URL:https://sherwoodcharterschool.org/event/picture-day-3/
CATEGORIES:School Events
END:VEVENT
BEGIN:VEVENT
DTSTART;TZID=America/Los_Angeles:20210922T183000
DTEND;TZID=America/Los_Angeles:20210922T200000
DTSTAMP:20260425T044229
CREATED:20210621T171216Z
LAST-MODIFIED:20210621T171216Z
UID:8783-1632335400-1632340800@sherwoodcharterschool.org
SUMMARY:Board of Director's Meeting
DESCRIPTION:See more information on the Board of Director’s page.
URL:https://sherwoodcharterschool.org/event/board-of-directors-meeting-28/
CATEGORIES:Board of Directors
END:VEVENT
BEGIN:VEVENT
DTSTART;TZID=America/Los_Angeles:20210916T180000
DTEND;TZID=America/Los_Angeles:20210916T200000
DTSTAMP:20260425T044229
CREATED:20210914T233048Z
LAST-MODIFIED:20210916T165638Z
UID:8931-1631815200-1631822400@sherwoodcharterschool.org
SUMMARY:Virtual Back to School Night
DESCRIPTION:We would like to invite you to the SCS Virtual Back to School Night that will take place on September 16th. Due to the health advisory issued from Oregon Health Authority and Oregon Department of Education earlier this month\, Back To School Night will be held virtually this year. On the morning of September 16th\, you will receive an email with an informational letter from Principal Joy Raboli\, the School Board and the Parent Advisory Committee to read at your convenience\, along with instructions on how to join a live session with your student’s teacher that same evening. This event is intended for parents and guardians only to learn all about the class curriculum. \nSee the live links and more information here! \nMiddle School\n6:00 pm – 6:30 pm Middle School Curriculum Presentation and Q&A \nElementary\nTwo live sessions will be hosted for those with multiple students. You do not need to attend both sessions as they will contain the same information. \n6:30 pm – 7:00 pm Elementary Curriculum Presentation and Q&A\n7:15 pm – 7:45 pm Elementary Curriculum Presentation and Q&A
URL:https://sherwoodcharterschool.org/event/virtual-back-to-school-night-2/
LOCATION:Virtual
CATEGORIES:School Events
END:VEVENT
BEGIN:VEVENT
DTSTART;VALUE=DATE:20210908
DTEND;VALUE=DATE:20210909
DTSTAMP:20260425T044229
CREATED:20210621T173337Z
LAST-MODIFIED:20210810T223754Z
UID:8817-1631059200-1631145599@sherwoodcharterschool.org
SUMMARY:First Day of School
DESCRIPTION:The first day of school will be on September 8th. School is in session Monday-Thursday 8:00 am—3:30 pm (check the Academic Calendar for holiday and closure dates).
URL:https://sherwoodcharterschool.org/event/first-day-of-school-4/
CATEGORIES:Academic Calendar
END:VEVENT
BEGIN:VEVENT
DTSTART;TZID=America/Los_Angeles:20210907T110000
DTEND;TZID=America/Los_Angeles:20210907T123000
DTSTAMP:20260425T044229
CREATED:20210809T200423Z
LAST-MODIFIED:20210901T170841Z
UID:8869-1631012400-1631017800@sherwoodcharterschool.org
SUMMARY:Meet and Greet
DESCRIPTION:Join us for our annual open house Meet and Greet for SCS families on September 7th from 11:00 am-12:30 pm. Come meet your teachers\, drop off your supplies\, complete any remaining registration paperwork\, drop off any student medications\,* pick up middle school class schedules and locker information\, get the low down on car line\, pay your OneFund and more! \nTo help with social distancing\, please use the suggested arrival times below: \n\nStudents with last name A-H: 11:00-11:45 am\nStudents with last name J-Z: 11:45-12:30 pm\n\nSee you there! \n  \n*If your student will have medication at school (including ibuprofen\, acetaminophen\, or antibiotic ointment)\, please drop off the medication in the original packaging to the school office\, along with a medical authorization form (see link below). Complete page one of the form below and bring to the office with the medication: \nMedication Administration Authorization
URL:https://sherwoodcharterschool.org/event/meet-and-greet-2/
LOCATION:Sherwood Charter School\, 23264 SW Main St.\, Sherwood\, OR\, 97140\, United States
CATEGORIES:School Events
ORGANIZER;CN="Sherwood Charter School":MAILTO:office@sherwoodcharterschool.org
END:VEVENT
BEGIN:VEVENT
DTSTART;TZID=America/Los_Angeles:20210827T110000
DTEND;TZID=America/Los_Angeles:20210827T113000
DTSTAMP:20260425T044229
CREATED:20210810T224046Z
LAST-MODIFIED:20210823T171133Z
UID:8876-1630062000-1630063800@sherwoodcharterschool.org
SUMMARY:Kindergarten Round Up
DESCRIPTION:We would like to invite all 2021-2022 SCS Kindergarten parents and their incoming students (please no siblings) to a Kindergarten Round Up on August 27th from 11:00-11:30 am.  We welcome you to meet Mrs. Connolly\, get comfortable in the classroom and get ready for the first day of school! There will also be an opportunity to meet some of the specials teachers (Art\, Music\, PE). Following the round up\, there will be an opportunity for free play up on the playground so kinders can meet their new classmates before beginning school.
URL:https://sherwoodcharterschool.org/event/kindergarten-round-up/
CATEGORIES:School Events
END:VEVENT
BEGIN:VEVENT
DTSTART;TZID=America/Los_Angeles:20210827T100000
DTEND;TZID=America/Los_Angeles:20210827T103000
DTSTAMP:20260425T044229
CREATED:20210810T224000Z
LAST-MODIFIED:20210823T171429Z
UID:8874-1630058400-1630060200@sherwoodcharterschool.org
SUMMARY:6th Grade and New Middle School Student Orientation
DESCRIPTION:We would like to invite all new middle school students and incoming 6th graders to a middle school student orientation on August 27th from 10:00-10:30 am to learn all about middle school! You will be able to visit the classrooms\, experience houses and meet the teachers. There will be time for your questions as we go.\n\n\nEVENT DETAILS:\nAugust 27\, 2021\, 10:00-10:30 am\n\nTour Humanities\, Science and Math\nTour Houses and learn about the program\nWrap up with questions\n\nPlease RSVP to this event by emailing the school office. Masks will be required while indoors at this event.\n\nWe look forward to seeing you there!
URL:https://sherwoodcharterschool.org/event/6th-grade-orientation/
LOCATION:Sherwood Charter School\, 23264 SW Main St.\, Sherwood\, OR\, 97140\, United States
CATEGORIES:School Events
END:VEVENT
BEGIN:VEVENT
DTSTART;TZID=America/Los_Angeles:20210818T183000
DTEND;TZID=America/Los_Angeles:20210818T200000
DTSTAMP:20260425T044229
CREATED:20210621T171135Z
LAST-MODIFIED:20210621T171135Z
UID:8781-1629311400-1629316800@sherwoodcharterschool.org
SUMMARY:Board of Director's Meeting
DESCRIPTION:See more information on the Board of Director’s page.
URL:https://sherwoodcharterschool.org/event/board-of-directors-meeting-27/
CATEGORIES:Board of Directors
END:VEVENT
BEGIN:VEVENT
DTSTART;TZID=America/Los_Angeles:20210721T183000
DTEND;TZID=America/Los_Angeles:20210721T200000
DTSTAMP:20260425T044229
CREATED:20210621T171058Z
LAST-MODIFIED:20210621T171058Z
UID:8779-1626892200-1626897600@sherwoodcharterschool.org
SUMMARY:Board of Director’s Meeting
DESCRIPTION:See more information on the Board of Director’s page.
URL:https://sherwoodcharterschool.org/event/board-of-directors-meeting-26/
CATEGORIES:Board of Directors
END:VEVENT
BEGIN:VEVENT
DTSTART;TZID=America/Los_Angeles:20210616T183000
DTEND;TZID=America/Los_Angeles:20210616T200000
DTSTAMP:20260425T044229
CREATED:20200806T195029Z
LAST-MODIFIED:20200806T195029Z
UID:8043-1623868200-1623873600@sherwoodcharterschool.org
SUMMARY:Board of Director’s Meeting
DESCRIPTION:
URL:https://sherwoodcharterschool.org/event/board-of-directors-meeting-24/
CATEGORIES:Board of Directors
END:VEVENT
BEGIN:VEVENT
DTSTART;TZID=America/Los_Angeles:20210610T154500
DTEND;TZID=America/Los_Angeles:20210610T170000
DTSTAMP:20260425T044229
CREATED:20210527T195812Z
LAST-MODIFIED:20210527T195812Z
UID:8749-1623339900-1623344400@sherwoodcharterschool.org
SUMMARY:Chromebook and Item Return
DESCRIPTION:On June 10th from 3:45-5:00 pm\, we will be hosting a Chromebook and item return. All textbooks\, novels\, and other items checked out from the classroom that have not yet been returned should be dropped off\, including any chromebooks checked out from the school. Chromebooks should be returned with the completed Chromebook Return Checkoff. The uniform closet will also be available in the lower parking lot during this event. \nWho: Any CDL families\, as well as any other families\, who have remaining items and/or Chromebooks to return to the school. There will also be an End of the Year bag for any students who have not already received theirs. \nWhen: Thursday\, June 10th from 3:45-5:00 pm \nSuggested pick up times assigned by car line number: \n\n1-50: 3:45 pm – 4:10 pm\n50-100: 4:10 pm – 4:35 pm\n100-150: 4:35 pm – 5:00 pm\nIf you are unable to come at your suggested time\, you may come anytime between 3:45-5:00 pm.\n\nHow: Please adhere to the following guidelines:  \n\nLine up by vehicle using morning car line direction (see map here for direction). Pull up to the flag before stopping.\nOnly the front vehicle by flag may exit the car to drop off.\nItem return bins will be organized by grade inside the narthex of the main building. Student end of the year bags will be identified by individual family car line numbers and grouped by grade. Chromebooks should be returned to office staff.\n\n 
URL:https://sherwoodcharterschool.org/event/chromebook-and-item-return/
LOCATION:Sherwood Charter School\, 23264 SW Main St.\, Sherwood\, OR\, 97140\, United States
CATEGORIES:School Events
ORGANIZER;CN="Sherwood Charter School":MAILTO:office@sherwoodcharterschool.org
END:VEVENT
BEGIN:VEVENT
DTSTART;TZID=America/Los_Angeles:20210610T110000
DTEND;TZID=America/Los_Angeles:20210610T123000
DTSTAMP:20260425T044229
CREATED:20210527T192004Z
LAST-MODIFIED:20210608T210127Z
UID:8741-1623322800-1623328200@sherwoodcharterschool.org
SUMMARY:Kindergarten Graduation and 5th Grade Promotion
DESCRIPTION:At SCS each year\, we celebrate the completion of the elementary grades with a “Stepping Stones Ceremony.” For new families\, the Stepping Stones Ceremony is a tradition where the teacher speaks about the class and the students\, then each student receives a stone with their grade to signify completing the year. It is a wonderful closure and the stones become keepsakes that they collect every year. \nThis year\, the Stepping Stones Ceremony\, which includes the kindergarten graduation and 5th grade promotion\, will be in-person in the SCS auditorium with event modifications to comply with OHA and ODE guidance. In order to meet the requirements\, Thursday\, June 10th will be a non-school day dedicated to the ceremony. Students should be accompanied by an adult for this event. See the start times for each grades below: \n\n8:00-8:30 – First Grade\n8:45-9:15 – Second Grade\n9:30-10:00 – Third Grade\n10:15-10:45 – Fourth Grade\n11:00-11:30 Kindergarten Graduation\n11:45-12:15 Fifth Grade Promotion\n\nIn accordance with the guidelines\, we are able to allow attendance of up to 2 guests\, as well as up to 3 siblings\, per student for each grade. We understand that there are unique family circumstances\, in which case please contact the office. All attendees will be required to sign in by completing an entrance screening prior to admittance to ensure capacity limitations and health guidelines are met. Masks will be required for all attendees. Students will remain seated with their families and called up individually to receive their stone. Following each grade’s ceremony\, all guests (including families planning to attend multiple ceremonies) will be asked to exit so we can allow the next group entrance. Students will have an End of the Year bag to pick up in the gym\, and we will also be accepting Chromebook returns outside the main building. \nStudents not able to attend the in-person ceremony can join a virtual Meet on Wednesday\, June 9th. Please let the teacher know so they can provide the details. Students will receive their stepping stone and End of the Year bag on the afternoon of June10th\, during the Chromebook and Item Return event.
URL:https://sherwoodcharterschool.org/event/kindergarten-graduation-and-5th-grade-promotion/
LOCATION:Sherwood Charter School\, 23264 SW Main St.\, Sherwood\, OR\, 97140\, United States
CATEGORIES:School Events
END:VEVENT
BEGIN:VEVENT
DTSTART;TZID=America/Los_Angeles:20210610T080000
DTEND;TZID=America/Los_Angeles:20210610T110000
DTSTAMP:20260425T044229
CREATED:20210527T191903Z
LAST-MODIFIED:20210608T210058Z
UID:8739-1623312000-1623322800@sherwoodcharterschool.org
SUMMARY:Stepping Stones Ceremony
DESCRIPTION:At SCS each year\, we celebrate the completion of the elementary grades with a “Stepping Stones Ceremony.” For new families\, the Stepping Stones Ceremony is a tradition where the teacher speaks about the class and the students\, then each student receives a stone with their grade to signify completing the year. It is a wonderful closure and the stones become keepsakes that they collect every year. \nThis year\, the Stepping Stones Ceremony\, which includes the kindergarten graduation and 5th grade promotion\, will be in-person in the SCS auditorium with event modifications to comply with OHA and ODE guidance. In order to meet the requirements\, Thursday\, June 10th will be a non-school day dedicated to the ceremony. Students should be accompanied by an adult for this event. See the start times for each grades below: \n\n8:00-8:30 – First Grade\n8:45-9:15 – Second Grade\n9:30-10:00 – Third Grade\n10:15-10:45 – Fourth Grade\n11:00-11:30 Kindergarten Graduation\n11:45-12:15 Fifth Grade Promotion\n\nIn accordance with the guidelines\, we are able to allow attendance of up to 2 guests\, as well as up to 3 siblings\, per student for each grade. We understand that there are unique family circumstances\, in which case please contact the office. All attendees will be required to sign in by completing an entrance screening prior to admittance to ensure capacity limitations and health guidelines are met. Masks will be required for all attendees. Students will remain seated with their families and called up individually to receive their stone. Following each grade’s ceremony\, all guests (including families planning to attend multiple ceremonies) will be asked to exit so we can allow the next group entrance. Students will have an End of the Year bag to pick up in the gym\, and we will also be accepting Chromebook returns outside the main building. \nStudents not able to attend the in-person ceremony can join a virtual Meet on Wednesday\, June 9th. Please let the teacher know so they can provide the details. Students will receive their stepping stone and End of the Year bag on the afternoon of June10th\, during the Chromebook and Item Return event.
URL:https://sherwoodcharterschool.org/event/stepping-stones-ceremony/
LOCATION:Sherwood Charter School\, 23264 SW Main St.\, Sherwood\, OR\, 97140\, United States
CATEGORIES:School Events
END:VEVENT
BEGIN:VEVENT
DTSTART;TZID=America/Los_Angeles:20210609T173000
DTEND;TZID=America/Los_Angeles:20210609T183000
DTSTAMP:20260425T044229
CREATED:20210527T191708Z
LAST-MODIFIED:20210527T195538Z
UID:8737-1623259800-1623263400@sherwoodcharterschool.org
SUMMARY:8th Grade Promotion
DESCRIPTION:We are excited to announce that we are able to host an in-person promotion ceremony for 8th grade students this year! We invite all 8th grade students along with 2 additional guests to join us on June 9th at 5:30 pm in the SCS Auditorium. \nIn accordance with ODE guidelines we are able to allow attendance of up to 2 guests per student. If additional seats are available\, we will hold a lottery with priority given to additional parent/guardians. You will be notified if your additional guest has been selected. RSVP is required and can be completed by clicking here. \nSafety note: Students will be seated with their families for the duration of the event and called up individually to receive their certificate. Masks are required and all attendees will be required to check in by completing an entrance screening prior to admittance. \nIf your student is unable to attend the in-person ceremony\, a request can be made for a copy of the student slideshow following the event. Completion certificates will be available to pick up at the Chromebook and Item Return event. \nFollowing the ceremony\, there will be an opportunity for students to participate in a socially distanced class photo taken by SCS staff\, along with the Leadership Academy Teachers.  A digital copy will be emailed to participating 8th grade families. \n 
URL:https://sherwoodcharterschool.org/event/8th-grade-promotion/
LOCATION:Sherwood Charter School\, 23264 SW Main St.\, Sherwood\, OR\, 97140\, United States
CATEGORIES:School Events
ORGANIZER;CN="Sherwood Charter School":MAILTO:office@sherwoodcharterschool.org
END:VEVENT
BEGIN:VEVENT
DTSTART;VALUE=DATE:20210609
DTEND;VALUE=DATE:20210610
DTSTAMP:20260425T044229
CREATED:20200806T193845Z
LAST-MODIFIED:20210527T191248Z
UID:8023-1623196800-1623283199@sherwoodcharterschool.org
SUMMARY:Last Full Day of School
DESCRIPTION:
URL:https://sherwoodcharterschool.org/event/last-day-of-school-half-day-3/
CATEGORIES:Academic Calendar
END:VEVENT
BEGIN:VEVENT
DTSTART;VALUE=DATE:20210609
DTEND;VALUE=DATE:20210610
DTSTAMP:20260425T044229
CREATED:20200806T193722Z
LAST-MODIFIED:20200806T193722Z
UID:8021-1623196800-1623283199@sherwoodcharterschool.org
SUMMARY:End of Trimester 3
DESCRIPTION:
URL:https://sherwoodcharterschool.org/event/end-of-trimester-3-3/
CATEGORIES:Academic Calendar
END:VEVENT
BEGIN:VEVENT
DTSTART;VALUE=DATE:20210531
DTEND;VALUE=DATE:20210601
DTSTAMP:20260425T044229
CREATED:20200806T193620Z
LAST-MODIFIED:20200806T193620Z
UID:8019-1622419200-1622505599@sherwoodcharterschool.org
SUMMARY:No School – Memorial Day
DESCRIPTION:
URL:https://sherwoodcharterschool.org/event/no-school-memorial-day-2/
CATEGORIES:Academic Calendar
END:VEVENT
BEGIN:VEVENT
DTSTART;VALUE=DATE:20210524
DTEND;VALUE=DATE:20210528
DTSTAMP:20260425T044229
CREATED:20210506T165642Z
LAST-MODIFIED:20210506T210244Z
UID:8713-1621814400-1622159999@sherwoodcharterschool.org
SUMMARY:State Testing: Grades 3rd-5th (Cohort A and B)
DESCRIPTION:
URL:https://sherwoodcharterschool.org/event/state-testing-grades-3rd-5th-cohort-a-and-b/
LOCATION:Sherwood Charter School\, 23264 SW Main St.\, Sherwood\, OR\, 97140\, United States
CATEGORIES:School Events
END:VEVENT
BEGIN:VEVENT
DTSTART;VALUE=DATE:20210521
DTEND;VALUE=DATE:20210522
DTSTAMP:20260425T044229
CREATED:20210506T165554Z
LAST-MODIFIED:20210506T165554Z
UID:8711-1621555200-1621641599@sherwoodcharterschool.org
SUMMARY:State Testing: Cohort C
DESCRIPTION:Students who are Cohort C (CDL only) must request to participate in the testing which will take place on campus on Friday\, May 21st. To opt-in your CDL student\, please email the office at office@sherwoodcharterschool.org.
URL:https://sherwoodcharterschool.org/event/state-testing-cohort-c/
LOCATION:Sherwood Charter School\, 23264 SW Main St.\, Sherwood\, OR\, 97140\, United States
CATEGORIES:School Events
END:VEVENT
BEGIN:VEVENT
DTSTART;TZID=America/Los_Angeles:20210519T183000
DTEND;TZID=America/Los_Angeles:20210519T200000
DTSTAMP:20260425T044229
CREATED:20200806T194949Z
LAST-MODIFIED:20200806T194949Z
UID:8041-1621449000-1621454400@sherwoodcharterschool.org
SUMMARY:Board of Director’s Meeting
DESCRIPTION:
URL:https://sherwoodcharterschool.org/event/board-of-directors-meeting-23/
CATEGORIES:Board of Directors
END:VEVENT
END:VCALENDAR